BEGIN:VCALENDAR
VERSION:2.0
PRODID:-//OmniMagnetCalendar//EN
BEGIN:VEVENT
DTSTAMP:20190625T195740Z
STATUS:CONFIRMED
UID:hcspain.clubs.harvard.edu630
DTSTART:20250408T120000Z
DTEND:20250408T140000Z
LOCATION:
SUMMARY:Comida-coloquio con D. Josu Jon Imaz "Mejor Empresario del Año 2024" l 08 de abril 14:00h Hesperia
DESCRIPTION:
BEGIN:VALARM
TRIGGER:-PT15M
ACTION:DISPLAY
END:VALARM
TRANSP:OPAQUE
END:VEVENT
END:VCALENDAR
