BEGIN:VCALENDAR
VERSION:2.0
PRODID:-//OmniMagnetCalendar//EN
BEGIN:VEVENT
DTSTAMP:20190625T195740Z
STATUS:CONFIRMED
UID:hcspain.clubs.harvard.edu629
DTSTART:20250401T120000Z
DTEND:20250401T140000Z
LOCATION:
SUMMARY:HBS CLUB OF BARCELONA | COMIDA-COLOQUIO CON JORDI ROMERO - FUNDADOR y CEO DE FACTORIAL | MARTES 1 DE
DESCRIPTION:
BEGIN:VALARM
TRIGGER:-PT15M
ACTION:DISPLAY
END:VALARM
TRANSP:OPAQUE
END:VEVENT
END:VCALENDAR
