BEGIN:VCALENDAR
VERSION:2.0
PRODID:-//OmniMagnetCalendar//EN
BEGIN:VEVENT
DTSTAMP:20190625T195740Z
STATUS:CONFIRMED
UID:hcspain.clubs.harvard.edu621
DTSTART:20241202T130000Z
DTEND:20241202T153000Z
LOCATION:
SUMMARY:Almuerzo-coloquio con D.  Javier Solana - 2 diciembre
DESCRIPTION:Lunes, 2 diciembre 2024 14:00h Hotel Hesperia Madrid
BEGIN:VALARM
TRIGGER:-PT15M
ACTION:DISPLAY
END:VALARM
TRANSP:OPAQUE
END:VEVENT
END:VCALENDAR
