BEGIN:VCALENDAR
VERSION:2.0
PRODID:-//OmniMagnetCalendar//EN
BEGIN:VEVENT
DTSTAMP:20190625T195740Z
STATUS:CONFIRMED
UID:hcspain.clubs.harvard.edu618
DTSTART:20241108T193000Z
DTEND:20241108T224500Z
LOCATION:
SUMMARY:Cena de Gala con Miguel Herrero de Jáuregui - Viernes, 8 noviembre 2024
DESCRIPTION:
BEGIN:VALARM
TRIGGER:-PT15M
ACTION:DISPLAY
END:VALARM
TRANSP:OPAQUE
END:VEVENT
END:VCALENDAR
