BEGIN:VCALENDAR
VERSION:2.0
PRODID:-//OmniMagnetCalendar//EN
BEGIN:VEVENT
DTSTAMP:20190625T195740Z
STATUS:CONFIRMED
UID:hcspain.clubs.harvard.edu612
DTSTART:20240627T163000Z
DTEND:20240627T193000Z
LOCATION:
SUMMARY:Encuentro con Dr. Alan Garber, presidente Harvard University 27 junio 18:30h. Auditorio Pérez Llorc
DESCRIPTION:
BEGIN:VALARM
TRIGGER:-PT15M
ACTION:DISPLAY
END:VALARM
TRANSP:OPAQUE
END:VEVENT
END:VCALENDAR
