BEGIN:VCALENDAR
VERSION:2.0
PRODID:-//OmniMagnetCalendar//EN
BEGIN:VEVENT
DTSTAMP:20190625T195740Z
STATUS:CONFIRMED
UID:hcspain.clubs.harvard.edu610
DTSTART:20240606T183000Z
DTEND:20240606T210000Z
LOCATION:
SUMMARY: Cena-coloquio con General Francisco Dacoba "Dinámicas y equilibrios en la geopolítica del S. XXI"
DESCRIPTION:
BEGIN:VALARM
TRIGGER:-PT15M
ACTION:DISPLAY
END:VALARM
TRANSP:OPAQUE
END:VEVENT
END:VCALENDAR
