BEGIN:VCALENDAR
VERSION:2.0
PRODID:-//OmniMagnetCalendar//EN
BEGIN:VEVENT
DTSTAMP:20190625T195740Z
STATUS:CONFIRMED
UID:hcspain.clubs.harvard.edu608
DTSTART:20240511T150000Z
DTEND:20240511T163000Z
LOCATION:
SUMMARY:HCS family: "Peter y Wendy: rumbo a nunca jamás"  Real Teatro Retiro sábado, 11 mayo 2024 17:00h
DESCRIPTION:
BEGIN:VALARM
TRIGGER:-PT15M
ACTION:DISPLAY
END:VALARM
TRANSP:OPAQUE
END:VEVENT
END:VCALENDAR
