BEGIN:VCALENDAR
VERSION:2.0
PRODID:-//OmniMagnetCalendar//EN
BEGIN:VEVENT
DTSTAMP:20190625T195740Z
STATUS:CONFIRMED
UID:hcspain.clubs.harvard.edu606
DTSTART:20240321T133000Z
DTEND:20240321T153000Z
LOCATION:
SUMMARY:Visita exposición "Isabel Quintanilla" 21 marzo  2024 14::30h Museo Thyssen Madrid
DESCRIPTION:
BEGIN:VALARM
TRIGGER:-PT15M
ACTION:DISPLAY
END:VALARM
TRANSP:OPAQUE
END:VEVENT
END:VCALENDAR
