BEGIN:VCALENDAR
VERSION:2.0
PRODID:-//OmniMagnetCalendar//EN
BEGIN:VEVENT
DTSTAMP:20190625T195740Z
STATUS:CONFIRMED
UID:hcspain.clubs.harvard.edu605
DTSTART:20240320T193000Z
DTEND:20240320T223000Z
LOCATION:
SUMMARY:"El papel de España en el mundo actual" Cena-coloquio con  D. Eduardo Serra. 20 marzo 20:30h Hesper
DESCRIPTION:
BEGIN:VALARM
TRIGGER:-PT15M
ACTION:DISPLAY
END:VALARM
TRANSP:OPAQUE
END:VEVENT
END:VCALENDAR
