BEGIN:VCALENDAR
VERSION:2.0
PRODID:-//OmniMagnetCalendar//EN
BEGIN:VEVENT
DTSTAMP:20190625T195740Z
STATUS:CONFIRMED
UID:hcspain.clubs.harvard.edu604
DTSTART:20240311T080000Z
DTEND:20240311T100000Z
LOCATION:
SUMMARY:¿Qué anticipan los mercados de bonos sobre ahorro, inversión y tipos de interés? con Luis Viceir
DESCRIPTION:
BEGIN:VALARM
TRIGGER:-PT15M
ACTION:DISPLAY
END:VALARM
TRANSP:OPAQUE
END:VEVENT
END:VCALENDAR
