BEGIN:VCALENDAR
VERSION:2.0
PRODID:-//OmniMagnetCalendar//EN
BEGIN:VEVENT
DTSTAMP:20190625T195740Z
STATUS:CONFIRMED
UID:hcspain.clubs.harvard.edu601
DTSTART:20240313T190000Z
DTEND:20240313T210000Z
LOCATION:
SUMMARY:Global Networking Night: miércoles, 13 marzo 2024 20:00h Casa Club Madrid
DESCRIPTION:
BEGIN:VALARM
TRIGGER:-PT15M
ACTION:DISPLAY
END:VALARM
TRANSP:OPAQUE
END:VEVENT
END:VCALENDAR
