BEGIN:VCALENDAR
VERSION:2.0
PRODID:-//OmniMagnetCalendar//EN
BEGIN:VEVENT
DTSTAMP:20190625T195740Z
STATUS:CONFIRMED
UID:hcspain.clubs.harvard.edu600
DTSTART:20240204T100000Z
DTEND:20240204T120000Z
LOCATION:
SUMMARY:HCS family: Opera "La Idea" Real Teatro Retiro domingo 4 febrero 2024 11.00h
DESCRIPTION:
BEGIN:VALARM
TRIGGER:-PT15M
ACTION:DISPLAY
END:VALARM
TRANSP:OPAQUE
END:VEVENT
END:VCALENDAR
