BEGIN:VCALENDAR
VERSION:2.0
PRODID:-//OmniMagnetCalendar//EN
BEGIN:VEVENT
DTSTAMP:20190625T195740Z
STATUS:CONFIRMED
UID:hcspain.clubs.harvard.edu596
DTSTART:20231121T130000Z
DTEND:20231122T150000Z
LOCATION:
SUMMARY:"El sector inmobiliario en España" con Jorge Pérez de Leza CEO Metrovacesa y David Martínez Monte
DESCRIPTION:
BEGIN:VALARM
TRIGGER:-PT15M
ACTION:DISPLAY
END:VALARM
TRANSP:OPAQUE
END:VEVENT
END:VCALENDAR
