BEGIN:VCALENDAR
VERSION:2.0
PRODID:-//OmniMagnetCalendar//EN
BEGIN:VEVENT
DTSTAMP:20190625T195740Z
STATUS:CONFIRMED
UID:hcspain.clubs.harvard.edu595
DTSTART:20231031T073000Z
DTEND:20231031T090000Z
LOCATION:
SUMMARY:Mesa de Goma "Una historia de emprendimiento" - Elena González-Blanco - Martes, 31 de octubre 8:30
DESCRIPTION:
BEGIN:VALARM
TRIGGER:-PT15M
ACTION:DISPLAY
END:VALARM
TRANSP:OPAQUE
END:VEVENT
END:VCALENDAR
