BEGIN:VCALENDAR
VERSION:2.0
PRODID:-//OmniMagnetCalendar//EN
BEGIN:VEVENT
DTSTAMP:20190625T195740Z
STATUS:CONFIRMED
UID:hcspain.clubs.harvard.edu594
DTSTART:20231025T170000Z
DTEND:20231025T183000Z
LOCATION:
SUMMARY:Visita Fundación Amigos del Museo del Prado : “La mirada de los artistas contemporáneos sobre lo
DESCRIPTION:
BEGIN:VALARM
TRIGGER:-PT15M
ACTION:DISPLAY
END:VALARM
TRANSP:OPAQUE
END:VEVENT
END:VCALENDAR
