BEGIN:VCALENDAR
VERSION:2.0
PRODID:-//OmniMagnetCalendar//EN
BEGIN:VEVENT
DTSTAMP:20190625T195740Z
STATUS:CONFIRMED
UID:hcspain.clubs.harvard.edu593
DTSTART:20231025T170000Z
DTEND:20231025T180000Z
LOCATION:
SUMMARY:CLUB DE LECTURA  "Lo reyes de la casa" de Delphine de Vigan miércoles, 25 octubre 2023, 19:00h-20:0
DESCRIPTION:
BEGIN:VALARM
TRIGGER:-PT15M
ACTION:DISPLAY
END:VALARM
TRANSP:OPAQUE
END:VEVENT
END:VCALENDAR
