BEGIN:VCALENDAR
VERSION:2.0
PRODID:-//OmniMagnetCalendar//EN
BEGIN:VEVENT
DTSTAMP:20190625T195740Z
STATUS:CONFIRMED
UID:hcspain.clubs.harvard.edu590
DTSTART:20231028T070000Z
DTEND:20231028T160000Z
LOCATION:
SUMMARY:Match Golf Harvard-Insead. Sábado, 28 de octubre 2023, Campo Golf Santander
DESCRIPTION:
BEGIN:VALARM
TRIGGER:-PT15M
ACTION:DISPLAY
END:VALARM
TRANSP:OPAQUE
END:VEVENT
END:VCALENDAR
