BEGIN:VCALENDAR
VERSION:2.0
PRODID:-//OmniMagnetCalendar//EN
BEGIN:VEVENT
DTSTAMP:20190625T195740Z
STATUS:CONFIRMED
UID:hcspain.clubs.harvard.edu589
DTSTART:20230923T060000Z
DTEND:20230924T170000Z
LOCATION:
SUMMARY:HCS Travels: Visita Valle Albaida, Finca La Escalera-Ontinyent (Valencia) 23 y 24 de septiembre 2023
DESCRIPTION:
BEGIN:VALARM
TRIGGER:-PT15M
ACTION:DISPLAY
END:VALARM
TRANSP:OPAQUE
END:VEVENT
END:VCALENDAR
