BEGIN:VCALENDAR
VERSION:2.0
PRODID:-//OmniMagnetCalendar//EN
BEGIN:VEVENT
DTSTAMP:20190625T195740Z
STATUS:CONFIRMED
UID:hcspain.clubs.harvard.edu566
DTSTART:20221025T180000Z
DTEND:20221025T190000Z
LOCATION:
SUMMARY:Mesa redonda "Literatura: otra mirada.." con Cristina Sánchez-Andrade, escritora 25 octubre 20:00h
DESCRIPTION:
BEGIN:VALARM
TRIGGER:-PT15M
ACTION:DISPLAY
END:VALARM
TRANSP:OPAQUE
END:VEVENT
END:VCALENDAR
