BEGIN:VCALENDAR
VERSION:2.0
PRODID:-//OmniMagnetCalendar//EN
BEGIN:VEVENT
DTSTAMP:20190625T195740Z
STATUS:CONFIRMED
UID:hcspain.clubs.harvard.edu563
DTSTART:20220920T063000Z
DTEND:20220920T080000Z
LOCATION:
SUMMARY:Harvard Women Initiative Spain - Mesa de Goma: "¿Soy como quiero ser? Reflexiones estivales” - 20
DESCRIPTION:
BEGIN:VALARM
TRIGGER:-PT15M
ACTION:DISPLAY
END:VALARM
TRANSP:OPAQUE
END:VEVENT
END:VCALENDAR
