BEGIN:VCALENDAR
VERSION:2.0
PRODID:-//OmniMagnetCalendar//EN
BEGIN:VEVENT
DTSTAMP:20190625T195740Z
STATUS:CONFIRMED
UID:hcspain.clubs.harvard.edu560
DTSTART:20220607T063000Z
DTEND:20220607T080000Z
LOCATION:
SUMMARY:Mesa de Goma: "Liderazgo para la transformación y el impacto" - 7 junio 8:30-10:00h / Zoom
DESCRIPTION:
BEGIN:VALARM
TRIGGER:-PT15M
ACTION:DISPLAY
END:VALARM
TRANSP:OPAQUE
END:VEVENT
END:VCALENDAR
