BEGIN:VCALENDAR
VERSION:2.0
PRODID:-//OmniMagnetCalendar//EN
BEGIN:VEVENT
DTSTAMP:20190625T195740Z
STATUS:CONFIRMED
UID:hcspain.clubs.harvard.edu558
DTSTART:20220512T170000Z
DTEND:20220512T180000Z
LOCATION:
SUMMARY:"Supply Chain issues in the current geopolitical context" HBS Professor Willy Shih- 12 mayo 7PM Zoom
DESCRIPTION:
BEGIN:VALARM
TRIGGER:-PT15M
ACTION:DISPLAY
END:VALARM
TRANSP:OPAQUE
END:VEVENT
END:VCALENDAR
