BEGIN:VCALENDAR
VERSION:2.0
PRODID:-//OmniMagnetCalendar//EN
BEGIN:VEVENT
DTSTAMP:20190625T195740Z
STATUS:CONFIRMED
UID:hcspain.clubs.harvard.edu556
DTSTART:20220505T120000Z
DTEND:20220505T130000Z
LOCATION:
SUMMARY:Visita guiada exposición "Colección Masaveu. Pintura española del siglo XIX" y "Street Art" - Fun
DESCRIPTION:
BEGIN:VALARM
TRIGGER:-PT15M
ACTION:DISPLAY
END:VALARM
TRANSP:OPAQUE
END:VEVENT
END:VCALENDAR
