BEGIN:VCALENDAR
VERSION:2.0
PRODID:-//OmniMagnetCalendar//EN
BEGIN:VEVENT
DTSTAMP:20190625T195740Z
STATUS:CONFIRMED
UID:hcspain.clubs.harvard.edu555
DTSTART:20220428T170000Z
DTEND:20220428T180000Z
LOCATION:
SUMMARY:Visita a "THE OBJECTIVE" con Paula Quinteros CEO - 28 abril 19:00h Madrid
DESCRIPTION:
BEGIN:VALARM
TRIGGER:-PT15M
ACTION:DISPLAY
END:VALARM
TRANSP:OPAQUE
END:VEVENT
END:VCALENDAR
