BEGIN:VCALENDAR
VERSION:2.0
PRODID:-//OmniMagnetCalendar//EN
BEGIN:VEVENT
DTSTAMP:20190625T195740Z
STATUS:CONFIRMED
UID:hcspain.clubs.harvard.edu553
DTSTART:20220330T160000Z
DTEND:20220330T173000Z
LOCATION:
SUMMARY:Encuentro con Blanca Muñoz - visita exposición "Acrobacias" Galería Marlborough Madrid 30 marzo,
DESCRIPTION:
BEGIN:VALARM
TRIGGER:-PT15M
ACTION:DISPLAY
END:VALARM
TRANSP:OPAQUE
END:VEVENT
END:VCALENDAR
