BEGIN:VCALENDAR
VERSION:2.0
PRODID:-//OmniMagnetCalendar//EN
BEGIN:VEVENT
DTSTAMP:20190625T195740Z
STATUS:CONFIRMED
UID:hcspain.clubs.harvard.edu549
DTSTART:20220301T073000Z
DTEND:20220301T090000Z
LOCATION:
SUMMARY: Mesa de Goma: "Sesgos inconscientes II" - 1 MARZO 8:30-10:00h / Zoom
DESCRIPTION:
BEGIN:VALARM
TRIGGER:-PT15M
ACTION:DISPLAY
END:VALARM
TRANSP:OPAQUE
END:VEVENT
END:VCALENDAR
