BEGIN:VCALENDAR
VERSION:2.0
PRODID:-//OmniMagnetCalendar//EN
BEGIN:VEVENT
DTSTAMP:20190625T195740Z
STATUS:CONFIRMED
UID:hcspain.clubs.harvard.edu545
DTSTART:20220215T180000Z
DTEND:20220215T190000Z
LOCATION:
SUMMARY:Q&A con Excmo Sr. D. Enrique Ruiz Escudero, Consejero Sanidad CAM-15 febrero 2022- 7pm- Andersen Mad
DESCRIPTION:
BEGIN:VALARM
TRIGGER:-PT15M
ACTION:DISPLAY
END:VALARM
TRANSP:OPAQUE
END:VEVENT
END:VCALENDAR
