BEGIN:VCALENDAR
VERSION:2.0
PRODID:-//OmniMagnetCalendar//EN
BEGIN:VEVENT
DTSTAMP:20190625T195740Z
STATUS:CONFIRMED
UID:hcspain.clubs.harvard.edu544
DTSTART:20220208T180000Z
DTEND:20220208T193000Z
LOCATION:
SUMMARY:CLUB DE LECTURA Harvard Club 5ª sesión-"Flor del Desierto" Waris Dirie Martes, 8 de febrero 19:00-
DESCRIPTION:
BEGIN:VALARM
TRIGGER:-PT15M
ACTION:DISPLAY
END:VALARM
TRANSP:OPAQUE
END:VEVENT
END:VCALENDAR
