BEGIN:VCALENDAR
VERSION:2.0
PRODID:-//OmniMagnetCalendar//EN
BEGIN:VEVENT
DTSTAMP:20190625T195740Z
STATUS:CONFIRMED
UID:hcspain.clubs.harvard.edu542
DTSTART:20211126T073000Z
DTEND:20211126T090000Z
LOCATION:
SUMMARY:Mesa de Goma para socias: "Sesgos inconscientes” 26 noviembre 2021 8:30-10:00h / Zoom
DESCRIPTION:
BEGIN:VALARM
TRIGGER:-PT15M
ACTION:DISPLAY
END:VALARM
TRANSP:OPAQUE
END:VEVENT
END:VCALENDAR
