BEGIN:VCALENDAR
VERSION:2.0
PRODID:-//OmniMagnetCalendar//EN
BEGIN:VEVENT
DTSTAMP:20190625T195740Z
STATUS:CONFIRMED
UID:hcspain.clubs.harvard.edu540
DTSTART:20211122T180000Z
DTEND:20211122T190000Z
LOCATION:
SUMMARY:Q&A con Excmo Sr. D. Gabriel Ferrán,  embajador de España en Afganistán - 22 noviembre 19:00h
DESCRIPTION:
BEGIN:VALARM
TRIGGER:-PT15M
ACTION:DISPLAY
END:VALARM
TRANSP:OPAQUE
END:VEVENT
END:VCALENDAR
