BEGIN:VCALENDAR
VERSION:2.0
PRODID:-//OmniMagnetCalendar//EN
BEGIN:VEVENT
DTSTAMP:20190625T195740Z
STATUS:CONFIRMED
UID:hcspain.clubs.harvard.edu539
DTSTART:20211112T193000Z
DTEND:20211112T223000Z
LOCATION:
SUMMARY:Cena de Gala con D. Alfonso Guerra - 12 de noviembre 20:30h - Hotel Palace Madrid
DESCRIPTION:
BEGIN:VALARM
TRIGGER:-PT15M
ACTION:DISPLAY
END:VALARM
TRANSP:OPAQUE
END:VEVENT
END:VCALENDAR
