BEGIN:VCALENDAR
VERSION:2.0
PRODID:-//OmniMagnetCalendar//EN
BEGIN:VEVENT
DTSTAMP:20190625T195740Z
STATUS:CONFIRMED
UID:hcspain.clubs.harvard.edu538
DTSTART:20211014T170000Z
DTEND:20211014T183000Z
LOCATION:
SUMMARY:CLUB DE LECTURA Harvard Club 2ª sesión - " Estupor y Temblores" Amélie Nothomb - jueves 14 octubr
DESCRIPTION:
BEGIN:VALARM
TRIGGER:-PT15M
ACTION:DISPLAY
END:VALARM
TRANSP:OPAQUE
END:VEVENT
END:VCALENDAR
