BEGIN:VCALENDAR
VERSION:2.0
PRODID:-//OmniMagnetCalendar//EN
BEGIN:VEVENT
DTSTAMP:20190625T195740Z
STATUS:CONFIRMED
UID:hcspain.clubs.harvard.edu532
DTSTART:20210914T170000Z
DTEND:20210914T190000Z
LOCATION:
SUMMARY:Save the Date! Sesión presencial HBS Angels - 14 septiembre 2021 19:00h
DESCRIPTION:
BEGIN:VALARM
TRIGGER:-PT15M
ACTION:DISPLAY
END:VALARM
TRANSP:OPAQUE
END:VEVENT
END:VCALENDAR
