BEGIN:VCALENDAR
VERSION:2.0
PRODID:-//OmniMagnetCalendar//EN
BEGIN:VEVENT
DTSTAMP:20190625T195740Z
STATUS:CONFIRMED
UID:hcspain.clubs.harvard.edu531
DTSTART:20210909T170000Z
DTEND:20210909T183000Z
LOCATION:
SUMMARY:¡Nueva iniciativa! CLUB DE LECTURA Harvard Club - 9 septiembre 19:00
DESCRIPTION:
BEGIN:VALARM
TRIGGER:-PT15M
ACTION:DISPLAY
END:VALARM
TRANSP:OPAQUE
END:VEVENT
END:VCALENDAR
