BEGIN:VCALENDAR
VERSION:2.0
PRODID:-//OmniMagnetCalendar//EN
BEGIN:VEVENT
DTSTAMP:20190625T195740Z
STATUS:CONFIRMED
UID:hcspain.clubs.harvard.edu524
DTSTART:20210420T063000Z
DTEND:20210420T080000Z
LOCATION:
SUMMARY:Mesa de goma: "Feminismo y Harvard: distintas visiones”  20 abril / 8:30-10:00h / Zoom
DESCRIPTION:
BEGIN:VALARM
TRIGGER:-PT15M
ACTION:DISPLAY
END:VALARM
TRANSP:OPAQUE
END:VEVENT
END:VCALENDAR
