BEGIN:VCALENDAR
VERSION:2.0
PRODID:-//OmniMagnetCalendar//EN
BEGIN:VEVENT
DTSTAMP:20190625T195740Z
STATUS:CONFIRMED
UID:hcspain.clubs.harvard.edu523
DTSTART:20210331T220000Z
DTEND:20210518T215959Z
LOCATION:
SUMMARY:Elections Board of Elected Directors - Harvard Alumni Association 1 abril - 18 mayo, Vote for Iñigo
DESCRIPTION:
BEGIN:VALARM
TRIGGER:-PT15M
ACTION:DISPLAY
END:VALARM
TRANSP:OPAQUE
END:VEVENT
END:VCALENDAR
