BEGIN:VCALENDAR
VERSION:2.0
PRODID:-//OmniMagnetCalendar//EN
BEGIN:VEVENT
DTSTAMP:20190625T195740Z
STATUS:CONFIRMED
UID:hcspain.clubs.harvard.edu509
DTSTART:20201006T170000Z
DTEND:20201006T180000Z
LOCATION:
SUMMARY:Webinar con Embajador de España en EEUU, Excmo. Sr. D. Santiago Cabanas 6 octubre, 7PM
DESCRIPTION:
BEGIN:VALARM
TRIGGER:-PT15M
ACTION:DISPLAY
END:VALARM
TRANSP:OPAQUE
END:VEVENT
END:VCALENDAR
