BEGIN:VCALENDAR
VERSION:2.0
PRODID:-//OmniMagnetCalendar//EN
BEGIN:VEVENT
DTSTAMP:20190625T195740Z
STATUS:CONFIRMED
UID:hcspain.clubs.harvard.edu508
DTSTART:20200720T170000Z
DTEND:20200720T180000Z
LOCATION:
SUMMARY:Webinar con Rafael Rilo, BCG "Transformación del modelo productivo español"  20 julio 7PM
DESCRIPTION:
BEGIN:VALARM
TRIGGER:-PT15M
ACTION:DISPLAY
END:VALARM
TRANSP:OPAQUE
END:VEVENT
END:VCALENDAR
