BEGIN:VCALENDAR
VERSION:2.0
PRODID:-//OmniMagnetCalendar//EN
BEGIN:VEVENT
DTSTAMP:20190625T195740Z
STATUS:CONFIRMED
UID:hcspain.clubs.harvard.edu506
DTSTART:20200629T180000Z
DTEND:20200629T190000Z
LOCATION:
SUMMARY:Ciclo COVID-19: Web Q&A con Excmo. Sr. D. José Luis Martínez-Almeida, Alcalde de Madrid 29 junio 8
DESCRIPTION:
BEGIN:VALARM
TRIGGER:-PT15M
ACTION:DISPLAY
END:VALARM
TRANSP:OPAQUE
END:VEVENT
END:VCALENDAR
