BEGIN:VCALENDAR
VERSION:2.0
PRODID:-//OmniMagnetCalendar//EN
BEGIN:VEVENT
DTSTAMP:20190625T195740Z
STATUS:CONFIRMED
UID:hcspain.clubs.harvard.edu505
DTSTART:20200624T170000Z
DTEND:20200624T190000Z
LOCATION:
SUMMARY:Ciclo COVID-19:"El papel de los medios de comunicación" Silvio González CEO Atresmedia 24 junio 7P
DESCRIPTION:
BEGIN:VALARM
TRIGGER:-PT15M
ACTION:DISPLAY
END:VALARM
TRANSP:OPAQUE
END:VEVENT
END:VCALENDAR
