BEGIN:VCALENDAR
VERSION:2.0
PRODID:-//OmniMagnetCalendar//EN
BEGIN:VEVENT
DTSTAMP:20190625T195740Z
STATUS:CONFIRMED
UID:hcspain.clubs.harvard.edu503
DTSTART:20200528T170000Z
DTEND:20200528T190000Z
LOCATION:
SUMMARY:Ciclo COVID-19:Panel de expertos "Impacto del Covid-19 en diferentes sectores" 28 mayo 7PM
DESCRIPTION:
BEGIN:VALARM
TRIGGER:-PT15M
ACTION:DISPLAY
END:VALARM
TRANSP:OPAQUE
END:VEVENT
END:VCALENDAR
