BEGIN:VCALENDAR
VERSION:2.0
PRODID:-//OmniMagnetCalendar//EN
BEGIN:VEVENT
DTSTAMP:20190625T195740Z
STATUS:CONFIRMED
UID:hcspain.clubs.harvard.edu501
DTSTART:20200518T170000Z
DTEND:20200518T190000Z
LOCATION:
SUMMARY:Ciclo COVID-19 Mario Alonso Puig "El poder de la imaginación para crear una nueva realidad" 18 mayo
DESCRIPTION:
BEGIN:VALARM
TRIGGER:-PT15M
ACTION:DISPLAY
END:VALARM
TRANSP:OPAQUE
END:VEVENT
END:VCALENDAR
