BEGIN:VCALENDAR
VERSION:2.0
PRODID:-//OmniMagnetCalendar//EN
BEGIN:VEVENT
DTSTAMP:20190625T195740Z
STATUS:CONFIRMED
UID:hcspain.clubs.harvard.edu500
DTSTART:20200427T150000Z
DTEND:20200427T170000Z
LOCATION:
SUMMARY:Ciclo COVID-19: sesión con Rubén Moreno, ex Secretario General de Sanidad 27 abril 5PM
DESCRIPTION:
BEGIN:VALARM
TRIGGER:-PT15M
ACTION:DISPLAY
END:VALARM
TRANSP:OPAQUE
END:VEVENT
END:VCALENDAR
