BEGIN:VCALENDAR
VERSION:2.0
PRODID:-//OmniMagnetCalendar//EN
BEGIN:VEVENT
DTSTAMP:20190625T195740Z
STATUS:CONFIRMED
UID:hcspain.clubs.harvard.edu497
DTSTART:20200421T170000Z
DTEND:20200421T190000Z
LOCATION:
SUMMARY:Ciclo COVID-19: sesión con Miguel Hernán Professor of Biostatistics and Epidemiology Harvard T.H.
DESCRIPTION:
BEGIN:VALARM
TRIGGER:-PT15M
ACTION:DISPLAY
END:VALARM
TRANSP:OPAQUE
END:VEVENT
END:VCALENDAR
