BEGIN:VCALENDAR
VERSION:2.0
PRODID:-//OmniMagnetCalendar//EN
BEGIN:VEVENT
DTSTAMP:20190625T195740Z
STATUS:CONFIRMED
UID:hcspain.clubs.harvard.edu496
DTSTART:20200327T180000Z
DTEND:20200327T230000Z
LOCATION:Hotel Puerta de América,  Avenida de América, 41, Madrid, 28028, Spain,
SUMMARY:*Canceled* Baile de primavera, 27 marzo Hotel Puerta de América Madrid
DESCRIPTION:
BEGIN:VALARM
TRIGGER:-PT15M
ACTION:DISPLAY
END:VALARM
TRANSP:OPAQUE
END:VEVENT
END:VCALENDAR
