BEGIN:VCALENDAR
VERSION:2.0
PRODID:-//OmniMagnetCalendar//EN
BEGIN:VEVENT
DTSTAMP:20190625T195740Z
STATUS:CONFIRMED
UID:hcspain.clubs.harvard.edu494
DTSTART:20200308T090000Z
DTEND:20200308T130000Z
LOCATION:Spacetechies, Castelló 61, Madrid, 28001, Spain,
SUMMARY:Talleres robótica/informática para la familia - 8 de Marzo 10:00h Spacetechies Madrid
DESCRIPTION:
BEGIN:VALARM
TRIGGER:-PT15M
ACTION:DISPLAY
END:VALARM
TRANSP:OPAQUE
END:VEVENT
END:VCALENDAR
