BEGIN:VCALENDAR
VERSION:2.0
PRODID:-//OmniMagnetCalendar//EN
BEGIN:VEVENT
DTSTAMP:20190625T195740Z
STATUS:CONFIRMED
UID:hcspain.clubs.harvard.edu492
DTSTART:20200210T130000Z
DTEND:20200210T150000Z
LOCATION:Club Financiero Génova, Calle Marqués de la Ensenada, 14-16, 28004 Madrid, Madrid, 28004, Spain,
SUMMARY:Almuerzo-coloquio con Dña. Meritxell Batet- Presidenta del Congreso -10 febrero 2020 14:00h Club Fi
DESCRIPTION:
BEGIN:VALARM
TRIGGER:-PT15M
ACTION:DISPLAY
END:VALARM
TRANSP:OPAQUE
END:VEVENT
END:VCALENDAR
