BEGIN:VCALENDAR
VERSION:2.0
PRODID:-//OmniMagnetCalendar//EN
BEGIN:VEVENT
DTSTAMP:20190625T195740Z
STATUS:CONFIRMED
UID:hcspain.clubs.harvard.edu491
DTSTART:20200123T131500Z
DTEND:20200123T153000Z
LOCATION:Biblioteca y Archivo Francisco de Zabálburu,  Marqués del Duero, 7, Madrid,  28001, Spain,
SUMMARY:Visita guiada a la Biblioteca y Archivo Francisco de Zabálburu Madrid, 23 enero 2020
DESCRIPTION:
BEGIN:VALARM
TRIGGER:-PT15M
ACTION:DISPLAY
END:VALARM
TRANSP:OPAQUE
END:VEVENT
END:VCALENDAR
