BEGIN:VCALENDAR
VERSION:2.0
PRODID:-//OmniMagnetCalendar//EN
BEGIN:VEVENT
DTSTAMP:20190625T195740Z
STATUS:CONFIRMED
UID:hcspain.clubs.harvard.edu490
DTSTART:20200115T183000Z
DTEND:20200115T203000Z
LOCATION:Real Café Bernabéu, Concha Espina 1, Estadio Santiago Bernabéu, Puerta 30, Madrid, 28036, Spain,
SUMMARY:Global Networking Night, 15 enero 19:30h-Real Café Bernabéu Madrid
DESCRIPTION:
BEGIN:VALARM
TRIGGER:-PT15M
ACTION:DISPLAY
END:VALARM
TRANSP:OPAQUE
END:VEVENT
END:VCALENDAR
