BEGIN:VCALENDAR
VERSION:2.0
PRODID:-//OmniMagnetCalendar//EN
BEGIN:VEVENT
DTSTAMP:20190625T195740Z
STATUS:CONFIRMED
UID:hcspain.clubs.harvard.edu489
DTSTART:20191202T180000Z
DTEND:20191202T203000Z
LOCATION:Sede de Cuatrecasas, Calle Almagro, 9, Madrid, 28010, Spain,
SUMMARY:Sesión HBS Angels Spain- 2 diciembre 2019 19:00h Cuatrecasas
DESCRIPTION:
BEGIN:VALARM
TRIGGER:-PT15M
ACTION:DISPLAY
END:VALARM
TRANSP:OPAQUE
END:VEVENT
END:VCALENDAR
